BEGIN:VCALENDAR
VERSION:2.0
PRODID:-//pilgerzentrum-zuerich//pilgerzentrum-zuerich.ch//DE
CALSCALE:GREGORIAN
BEGIN:VEVENT
DTSTART:20261014T104500
DTEND:20261014T180000
LOCATION:Rundweg in Stein am Rhein
DTSTAMP:20261014T104500
SUMMARY:Mittwochspilgern
URL;VALUE=URI:https://pilgerzentrum-zuerich.ch/pilgern/mittwochspilgern/
DESCRIPTION:«gränzgängig» den Rhein aufwärts
UID:20261014T104500-20261014T104500-20261014T180000
END:VEVENT
END:VCALENDAR